Workbook

Sheet 总表
A1: 科室 | B1: 设备名称 | C1: 规格型号 | D1: 生产厂家 | E1: 购买年份 | F1: 数量
A2: 病理科 | B2: 冰冻切片机 | C2: FS800 | D2: =IF(VLOOKUP(C2,索引!A:C,2,FALSE)=0,"",VLOOKUP(C2,索引!A:C,2,FALSE)) -> 深圳市瑞沃德生命科技有限公司 | E2: 2023 | F2: 1
A3: 病理科 | B3: 病理取材台 | C3: J-A1 | D3: =IF(VLOOKUP(C3,索引!A:C,2,FALSE)=0,"",VLOOKUP(C3,索引!A:C,2,FALSE)) -> 嘉兴市金井金属制品有限公司 | E3: 2024 | F3: 1
A4: 病理科 | B4: 纯水机 | C4: KH-100S | D4: =IF(VLOOKUP(C4,索引!A:C,2,FALSE)=0,"",VLOOKUP(C4,索引!A:C,2,FALSE)) -> 江苏科美电子设备有限责任公司 | E4: 2025 | F4: 1
A5: 病理科 | B5: 高速冷冻离心机 | C5: M1324R | D5: =IF(VLOOKUP(C5,索引!A:C,2,FALSE)=0,"",VLOOKUP(C5,索引!A:C,2,FALSE)) -> 深圳市瑞沃德生命科技有限公司 | E5: 2023 | F5: 1
A6: 病理科 | B6: 激光包埋盒打号机 | C6: EMarker-11A | D6: =IF(VLOOKUP(C6,索引!A:C,2,FALSE)=0,"",VLOOKUP(C6,索引!A:C,2,FALSE)) | E6: 2023 | F6: 1
A7: 病理科 | B7: 激光玻片打号机 | C7: G304 | D7: =IF(VLOOKUP(C7,索引!A:C,2,FALSE)=0,"",VLOOKUP(C7,索引!A:C,2,FALSE)) -> 广州蓝勃生物科技有限公司 | E7: 2023 | F7: 1
A8: 病理科 | B8: 轮转式石蜡切片机 | C8: S700 | D8: =IF(VLOOKUP(C8,索引!A:C,2,FALSE)=0,"",VLOOKUP(C8,索引!A:C,2,FALSE)) -> 深圳市瑞沃德生命科技有限公司 | E8: 2023 | F8: 1
A9: 病理科 | B9: 免疫组化仪 | C9: CNT300 | D9: =IF(VLOOKUP(C9,索引!A:C,2,FALSE)=0,"",VLOOKUP(C9,索引!A:C,2,FALSE)) -> 河南赛诺特生物技术有限公司 | E9: 2023 | F9: 1
A10: 病理科 | B10: 全封闭组织脱水机 | C10: LBP-TS812 | D10: =IF(VLOOKUP(C10,索引!A:C,2,FALSE)=0,"",VLOOKUP(C10,索引!A:C,2,FALSE)) -> 广州安必平自动化检测设备有限公司 | E10: 2023 | F10: 1
A11: 病理科 | B11: 全自动组织染色封片一体机 | C11: PSRF-3000A | D11: =IF(VLOOKUP(C11,索引!A:C,2,FALSE)=0,"",VLOOKUP(C11,索引!A:C,2,FALSE)) -> 湖南品胜生物技术有限公司 | E11: 2023 | F11: 1
A12: 病理科 | B12: 染色通风柜 | C12: J-E6-2 | D12: =IF(VLOOKUP(C12,索引!A:C,2,FALSE)=0,"",VLOOKUP(C12,索引!A:C,2,FALSE)) -> 嘉兴市金井金属制品有限公司 | E12: 2025 | F12: 1
A13: 病理科 | B13: 生物显微镜 | C13: BX53F2C | D13: =IF(VLOOKUP(C13,索引!A:C,2,FALSE)=0,"",VLOOKUP(C13,索引!A:C,2,FALSE)) -> 仪景通光学科技(广州)有限公司 | E13: 2024 | F13: 1
... A175: 妇产科 | B175: 微波治疗仪 | C175: WB-3100AI | D175: =IF(VLOOKUP(C175,索引!A:C,2,FALSE)=0,"",VLOOKUP(C175,索引!A:C,2,FALSE)) -> 徐州市宝兴医疗设备有限公司 | E175: 2013 | F175: 1
A176: 妇产科 | B176: 新生儿喉镜 | C176: 12312 | D176: =IF(VLOOKUP(C176,索引!A:C,2,FALSE)=0,"",VLOOKUP(C176,索引!A:C,2,FALSE)) | E176: 2021 | F176: 1
A177: 妇产科 | B177: 医用臭氧治疗仪 | C177: DT-9C | D177: =IF(VLOOKUP(C177,索引!A:C,2,FALSE)=0,"",VLOOKUP(C177,索引!A:C,2,FALSE)) | E177: 2021 | F177: 1
A178: 妇产科 | B178: 医用臭氧治疗仪 | C178: DT-9C | D178: =IF(VLOOKUP(C178,索引!A:C,2,FALSE)=0,"",VLOOKUP(C178,索引!A:C,2,FALSE)) | E178: 2021 | F178: 1
A179: 妇产科 | B179: 医用加压器（灌注泵） | C179: ZZY-I | D179: =IF(VLOOKUP(C179,索引!A:C,2,FALSE)=0,"",VLOOKUP(C179,索引!A:C,2,FALSE)) -> 桐庐洲济医疗器械有限公司 | E179: 2019 | F179: 1
A180: 妇产科 | B180: 医用空气消毒机 | C180: YKX-80 | D180: =IF(VLOOKUP(C180,索引!A:C,2,FALSE)=0,"",VLOOKUP(C180,索引!A:C,2,FALSE)) -> 成都市肯格王三氧电气设备有限公司 | E180: 2017 | F180: 1
A181: 妇产科 | B181: 医用空气消毒机 | C181: YKX-B-600 | D181: =IF(VLOOKUP(C181,索引!A:C,2,FALSE)=0,"",VLOOKUP(C181,索引!A:C,2,FALSE)) -> 成都市肯格王三氧电气设备有限公司 | E181: 2019 | F181: 1
A182: 妇产科 | B182: 医用空气消毒机 | C182: YKX-B-600 | D182: =IF(VLOOKUP(C182,索引!A:C,2,FALSE)=0,"",VLOOKUP(C182,索引!A:C,2,FALSE)) -> 成都市肯格王三氧电气设备有限公司 | E182: 2019 | F182: 1
A183: 妇产科 | B183: 医用空气消毒机 | C183: YKX-B-600 | D183: =IF(VLOOKUP(C183,索引!A:C,2,FALSE)=0,"",VLOOKUP(C183,索引!A:C,2,FALSE)) -> 成都市肯格王三氧电气设备有限公司 | E183: 2019 | F183: 1
A184: 妇产科 | B184: 医用空气消毒机 | C184: YKX-B-600 | D184: =IF(VLOOKUP(C184,索引!A:C,2,FALSE)=0,"",VLOOKUP(C184,索引!A:C,2,FALSE)) -> 成都市肯格王三氧电气设备有限公司 | E184: 2019 | F184: 1
A185: 妇产科 | B185: 医用空气消毒机 | C185: YKX-B-600 | D185: =IF(VLOOKUP(C185,索引!A:C,2,FALSE)=0,"",VLOOKUP(C185,索引!A:C,2,FALSE)) -> 成都市肯格王三氧电气设备有限公司 | E185: 2019 | F185: 1
A186: 妇产科 | B186: 医用空气消毒机 | C186: YKX-B-600 | D186: =IF(VLOOKUP(C186,索引!A:C,2,FALSE)=0,"",VLOOKUP(C186,索引!A:C,2,FALSE)) -> 成都市肯格王三氧电气设备有限公司 | E186: 2019 | F186: 1
A187: 妇产科 | B187: 医用空气消毒机 | C187: YKX-Y-800 | D187: =IF(VLOOKUP(C187,索引!A:C,2,FALSE)=0,"",VLOOKUP(C187,索引!A:C,2,FALSE)) -> 成都市肯格王三氧电气设备有限公司 | E187: 2019 | F187: 1
A188: 妇产科 | B188: 医用空气压缩机 | C188: TF5000@ | D188: =IF(VLOOKUP(C188,索引!A:C,2,FALSE)=0,"",VLOOKUP(C188,索引!A:C,2,FALSE)) -> 北京神鹿腾飞医疗科技有限公司 | E188: 2019 | F188: 1
... A601: 麻醉科手术室 | B601: 麻醉视频喉镜 | C601: BD-DP | D601: =IF(VLOOKUP(C601,索引!A:C,2,FALSE)=0,"",VLOOKUP(C601,索引!A:C,2,FALSE)) | E601: 2022 | F601: 1
A602: 麻醉科手术室 | B602: 神经探测仪 | D602: =IF(VLOOKUP(C602,索引!A:C,2,FALSE)=0,"",VLOOKUP(C602,索引!A:C,2,FALSE)) -> #N/A | E602: 2020 | F602: 1
A603: 麻醉科手术室 | B603: 手术显微镜 | C603: ZC-X-6A | D603: =IF(VLOOKUP(C603,索引!A:C,2,FALSE)=0,"",VLOOKUP(C603,索引!A:C,2,FALSE)) -> 镇江市卓创医疗科技有限公司 | E603: 2019 | F603: 1
A604: 麻醉科手术室 | B604: 双极电切内窥镜 | C604: J0330E | D604: =IF(VLOOKUP(C604,索引!A:C,2,FALSE)=0,"",VLOOKUP(C604,索引!A:C,2,FALSE)) -> 沈阳沈大内窥镜有限公司 | E604: 2020 | F604: 1
A605: 麻醉科手术室 | B605: 心脏除颤仪 | C605: PRIMEDIC Defi-B | D605: =IF(VLOOKUP(C605,索引!A:C,2,FALSE)=0,"",VLOOKUP(C605,索引!A:C,2,FALSE)) -> 德国罗吉世有限公司 | E605: 2010 | F605: 1
A606: 麻醉科手术室 | B606: 新生儿喉镜 | C606: 12312 | D606: =IF(VLOOKUP(C606,索引!A:C,2,FALSE)=0,"",VLOOKUP(C606,索引!A:C,2,FALSE)) | E606: 2021 | F606: 1
A607: 麻醉科手术室 | B607: 新生儿喉镜 | C607: 12312 | D607: =IF(VLOOKUP(C607,索引!A:C,2,FALSE)=0,"",VLOOKUP(C607,索引!A:C,2,FALSE)) | E607: 2021 | F607: 1
A608: 麻醉科手术室 | B608: 血气生化分析仪 | C608: i15A | D608: =IF(VLOOKUP(C608,索引!A:C,2,FALSE)=0,"",VLOOKUP(C608,索引!A:C,2,FALSE)) -> 深圳市理邦精密仪器有限公司 | E608: 2022 | F608: 1
A609: 麻醉科手术室 | B609: 医用骨科电钻 | C609: ZAZJ-I | D609: =IF(VLOOKUP(C609,索引!A:C,2,FALSE)=0,"",VLOOKUP(C609,索引!A:C,2,FALSE)) -> #N/A | E609: 2019 | F609: 1
A610: 麻醉科手术室 | B610: 医用可视喉镜 | C610: HYHJ-1320 | D610: =IF(VLOOKUP(C610,索引!A:C,2,FALSE)=0,"",VLOOKUP(C610,索引!A:C,2,FALSE)) | E610: 2019 | F610: 1
A611: 麻醉科手术室 | B611: 医用可视麻醉喉镜（可挑声门） | C611: insight iS3 | D611: =IF(VLOOKUP(C611,索引!A:C,2,FALSE)=0,"",VLOOKUP(C611,索引!A:C,2,FALSE)) -> 深圳因赛德思医疗科技有限公司 | E611: 2025 | F611: 1
A612: 麻醉科手术室 | B612: 医用升温毯 | C612: TMS-W101 | D612: =IF(VLOOKUP(C612,索引!A:C,2,FALSE)=0,"",VLOOKUP(C612,索引!A:C,2,FALSE)) -> 杭州坦帕医疗科技有限公司 | E612: 2025 | F612: 1
A613: 麻醉科手术室 | B613: 医用升温毯 | C613: TMS-W101 | D613: =IF(VLOOKUP(C613,索引!A:C,2,FALSE)=0,"",VLOOKUP(C613,索引!A:C,2,FALSE)) -> 杭州坦帕医疗科技有限公司 | E613: 2025 | F613: 1
...

Sheet 索引
A1: 型号 | B1: 生产厂家 | C1: 注册证号
A2: 390 | B2: 美国3M | C2: /
A3: 9802.867
A4: 9803.867
A5: 12312
A6: 3001型 | B6: 上海科凌医疗器械责任有限公司 | C6: /
A7: 46076型
A8: 5700C | B8: 锐珂（上海）医疗器材有限公司 | C8: 沪浦械备20150003号
A9: 7C | B9: 江苏鱼跃医疗设备股份有限公司 | C9: 苏械注准20162540237
A10: 7DI | B10: 江苏鱼跃医疗设备股份有限公司 | C10: 苏械注准20172540154
A11: 90D
A12: A1S | B12: 广州一康医疗设备实业有限公司 | C12: 粤械注准20192190389
A13: A50
A14: A50;Φ3.8mm
A15: ABL80 FLEX | B15: 雷度米特医疗设备（上海）有限公司 | C15: 国械注进20172401025
A16: ABPM50 | B16: 康泰医学系统（秦皇岛）股份有限公司 | C16: 冀食药监械（准）字2014第2210156号
A17: ACU-H2H | B17: 爱科凯能科技（北京）股份有限公司 | C17: 国械注准20183011787
A18: Aeon7400A | B18: 北京谊安医疗系统股份有限公司公司 | C18: 国食药监械（准）字2008第3541119号
A19: Affiniti 70 | B19: 飞利浦超声股份有限公司 | C19: 国械注进20153231349
A20: AGS8830-16 | B20: 杭州安誉科技有限公司 | C20: 国械注准20203220748
A21: AII6000A | B21: 深圳市安保科技有限公司 | C21: 国械注准20153541579
A22: AJ/CDX-600 | B22: 四川奥洁消毒设备有限公司 | C22: 川（成都-新都）卫消证字（2018）第0001号
A23: ArmGuider-NSS | B23: 上海卓通医疗科技有限公司 | C23: 沪械注准20182190338
A24: ASR-4000E | B24: 深圳安科高技术股份有限公司 | C24: 粤械注准20192060582
A25: Auto Sight 900 | B25: 广东福地新视野光电技术有限公司 | C25: 粤械注准20152220793
A26: Autra 9600 Plus | B26: 上海之江生物医药科技有限公司 | C26: 沪械注准20212220551
... A30: BC-6900 | B30: 深圳迈瑞生物医疗电子股份有限公司 | C30: 粤食药监械（准）字2013第2401340号
A31: BD-DP
A32: BeneHeart D3 | B32: 深圳迈瑞生物医疗电子股份有限公司 | C32: 国械注准20173210600
A33: BeneHeart R12 | B33: 深圳迈瑞生物医疗电子股份有限公司 | C33: 粤食药监械（准）字2013第2211313号
A34: BeneVision N1 | B34: 深圳迈瑞生物医疗电子股份有限公司 | C34: 国械注准20173211480
A35: BeneVision N12 | B35: 深圳迈瑞生物医疗电子股份有限公司 | C35: 国械注准20173210926
A36: BeneVision N15 | B36: 深圳迈瑞生物医疗电子股份有限公司 | C36: 国械注准20173070926
A37: BF-1TQ170 | B37: 奥林巴斯医疗株式会社
A38: BI 12E | B38: 深圳市博英医疗仪器科技有限公司 | C38: 粤械注准20152070480
A39: BI5000 | B39: 深圳市博英医疗仪器科技有限公司 | C39: 粤械注准20162070582
A40: BI9900 | B40: 深圳市博英医疗仪器科技有限公司 | C40: 粤械注准20172211766
A41: BioZ-2011-101 | B41: 深圳市麦德安医疗设备有限公司 | C41: 粤械注准20172070020
A42: BiPAP A40 | B42: 飞利浦(中国)投资有限公司 | C42: 国食药监械（进）字2014第3542940号
A43: BLF-600Y | B43: 四川贝利福医疗器械有限公司 | C43: /
...

Sheet 非医疗设备
A1: 科室 | B1: 名称 | C1: 购买公司 | D1: 价格
A2: 中医科 | B2: 床头柜 | C2: 成都宸源医疗器械有限公司 | D2: 6400
A3: 中医科 | B3: 钢制床 | C3: 成都宸源医疗器械有限公司 | D3: 47200
A4: 中医科 | B4: 定PT床 | C4: 四川省福乐瑞兴医疗器械有限公司 | D4: 1550
A5: 中医科 | B5: 定PT床 | C5: 四川省福乐瑞兴医疗器械有限公司 | D5: 1550
A6: 中医科 | B6: 定PT床 | C6: 四川省福乐瑞兴医疗器械有限公司 | D6: 1550
A7: 中医科 | B7: 定PT床 | C7: 四川省福乐瑞兴医疗器械有限公司 | D7: 1550
A8: 中医科 | B8: 多功能翻身床 | C8: 四川岚彩医疗器械有限公司 | D8: 5400
A9: 中医科 | B9: 多功能翻身床 | C9: 四川岚彩医疗器械有限公司 | D9: 5400
A10: 中医科 | B10: 多功能翻身床 | C10: 四川岚彩医疗器械有限公司 | D10: 5400
A11: 中医科 | B11: 多功能翻身床 | C11: 四川岚彩医疗器械有限公司 | D11: 5400
A12: 中医科 | B12: 多功能翻身床 | C12: 四川岚彩医疗器械有限公司 | D12: 5400
A13: 中医科 | B13: 多功能翻身床 | C13: 四川岚彩医疗器械有限公司 | D13: 5400
... A646: 急诊科 | B646: 液晶彩显高级全自动电脑心肺复苏模拟人 | C646: 四川省福乐瑞兴医疗器械有限公司 | D646: 8500
A647: 急诊科 | B647: 全身真空夹板 | D647: 5800
A648: 急诊科 | B648: 脊柱固定板 | D648: 9800
A649: 急诊科 | B649: 挎包式急救包 | D649: 2600
A650: 急诊科 | B650: 担架 | C650: 四川省福乐瑞兴医疗器械有限公司 | D650: 6600
A651: 急诊科 | B651: 担架 | C651: 四川省福乐瑞兴医疗器械有限公司 | D651: 6600
A652: 急诊科 | B652: 落地式输液架（带轮） | C652: 四川省福乐瑞兴医疗器械有限公司 | D652: 215
A653: 急诊科 | B653: 落地式输液架（带轮） | C653: 四川省福乐瑞兴医疗器械有限公司 | D653: 215
A654: 急诊科 | B654: 落地式输液架（带轮） | C654: 四川省福乐瑞兴医疗器械有限公司 | D654: 215
A655: 急诊科 | B655: 落地式输液架（带轮） | C655: 四川省福乐瑞兴医疗器械有限公司 | D655: 215
A656: 急诊科 | B656: 落地式输液架（带轮） | C656: 四川省福乐瑞兴医疗器械有限公司 | D656: 215
A657: 急诊科 | B657: 落地式输液架（带轮） | C657: 四川省福乐瑞兴医疗器械有限公司 | D657: 215
A658: 急诊科 | B658: 落地式输液架（带轮） | C658: 四川省福乐瑞兴医疗器械有限公司 | D658: 215
A659: 急诊科 | B659: 落地式输液架（带轮） | C659: 四川省福乐瑞兴医疗器械有限公司 | D659: 215
A660: 急诊科 | B660: 落地式输液架（带轮） | C660: 四川省福乐瑞兴医疗器械有限公司 | D660: 215
A661: 急诊科 | B661: 落地式输液架（带轮） | C661: 四川省福乐瑞兴医疗器械有限公司 | D661: 215
... A1097: 普外科 | B1097: 不锈钢四小轮病人推车 | C1097: 成都康德宝商贸有限公司 | D1097: 1800

Sheet 报废设备
A1: 科室 | B1: 设备名称 | C1: 价格
A2: B超室 | B2: 心电图机 | C2: 27000
A3: B超室 | B3: 心电图机 | C3: 9500
A4: B超室 | B4: 彩色多普勒超声诊断仪 | C4: 458000
A5: B超室 | B5: 拜耳B超 | C5: 101900
A6: 成都市新都区第三人民医院 | B6: 无影灯 | C6: 8410
A7: 成都市新都区第三人民医院 | B7: 洁净工作台 | C7: 5200
A8: 成都市新都区第三人民医院 | B8: 洗胃机 | C8: 2580
A9: 成都市新都区第三人民医院 | B9: 病床 | C9: 23360
A10: 成都市新都区第三人民医院 | B10: 三氧消毒机 | C10: 1850
A11: 成都市新都区第三人民医院 | B11: 器械台 | C11: 1760
A12: 成都市新都区第三人民医院 | B12: 裂隙灯 | C12: 15000
A13: 成都市新都区第三人民医院 | B13: 动能控多功能牵引床 | C13: 2112
... A96: 理疗科 | B96: 洗板机 | C96: 20000
