Workbook

Sheet 总表
A1: 科室 | B1: 设备名称 | C1: 规格型号 | D1: 生产厂家 | E1: 购买年份 | F1: 数量
A2: 病理科 | B2: 冰冻切片机 | C2: FS800 | D2: =IF(VLOOKUP(C2,索引!A:C,2,FALSE)=0,"",VLOOKUP(C2,索引!A:C,2,FALSE)) -> 深圳市瑞沃德生命科技有限公司 | E2: 2023 | F2: 1
A3: 病理科 | B3: 病理取材台 | C3: J-A1 | D3: =IF(VLOOKUP(C3,索引!A:C,2,FALSE)=0,"",VLOOKUP(C3,索引!A:C,2,FALSE)) -> 嘉兴市金井金属制品有限公司 | E3: 2024 | F3: 1
A4: 病理科 | B4: 纯水机 | C4: KH-100S | D4: =IF(VLOOKUP(C4,索引!A:C,2,FALSE)=0,"",VLOOKUP(C4,索引!A:C,2,FALSE)) -> 江苏科美电子设备有限责任公司 | E4: 2025 | F4: 1
A5: 病理科 | B5: 高速冷冻离心机 | C5: M1324R | D5: =IF(VLOOKUP(C5,索引!A:C,2,FALSE)=0,"",VLOOKUP(C5,索引!A:C,2,FALSE)) -> 深圳市瑞沃德生命科技有限公司 | E5: 2023 | F5: 1
A6: 病理科 | B6: 激光包埋盒打号机 | C6: EMarker-11A | D6: =IF(VLOOKUP(C6,索引!A:C,2,FALSE)=0,"",VLOOKUP(C6,索引!A:C,2,FALSE)) | E6: 2023 | F6: 1
A7: 病理科 | B7: 激光玻片打号机 | C7: G304 | D7: =IF(VLOOKUP(C7,索引!A:C,2,FALSE)=0,"",VLOOKUP(C7,索引!A:C,2,FALSE)) -> 广州蓝勃生物科技有限公司 | E7: 2023 | F7: 1
A8: 病理科 | B8: 轮转式石蜡切片机 | C8: S700 | D8: =IF(VLOOKUP(C8,索引!A:C,2,FALSE)=0,"",VLOOKUP(C8,索引!A:C,2,FALSE)) -> 深圳市瑞沃德生命科技有限公司 | E8: 2023 | F8: 1
A9: 病理科 | B9: 免疫组化仪 | C9: CNT300 | D9: =IF(VLOOKUP(C9,索引!A:C,2,FALSE)=0,"",VLOOKUP(C9,索引!A:C,2,FALSE)) -> 河南赛诺特生物技术有限公司 | E9: 2023 | F9: 1
A10: 病理科 | B10: 全封闭组织脱水机 | C10: LBP-TS812 | D10: =IF(VLOOKUP(C10,索引!A:C,2,FALSE)=0,"",VLOOKUP(C10,索引!A:C,2,FALSE)) -> 广州安必平自动化检测设备有限公司 | E10: 2023 | F10: 1
A11: 病理科 | B11: 全自动组织染色封片一体机 | C11: PSRF-3000A | D11: =IF(VLOOKUP(C11,索引!A:C,2,FALSE)=0,"",VLOOKUP(C11,索引!A:C,2,FALSE)) -> 湖南品胜生物技术有限公司 | E11: 2023 | F11: 1
A12: 病理科 | B12: 染色通风柜 | C12: J-E6-2 | D12: =IF(VLOOKUP(C12,索引!A:C,2,FALSE)=0,"",VLOOKUP(C12,索引!A:C,2,FALSE)) -> 嘉兴市金井金属制品有限公司 | E12: 2025 | F12: 1
A13: 病理科 | B13: 生物显微镜 | C13: BX53F2C | D13: =IF(VLOOKUP(C13,索引!A:C,2,FALSE)=0,"",VLOOKUP(C13,索引!A:C,2,FALSE)) -> 仪景通光学科技(广州)有限公司 | E13: 2024 | F13: 1
... A175: 妇产科 | B175: 微波治疗仪 | C175: WB-3100AI | D175: =IF(VLOOKUP(C175,索引!A:C,2,FALSE)=0,"",VLOOKUP(C175,索引!A:C,2,FALSE)) -> 徐州市宝兴医疗设备有限公司 | E175: 2013 | F175: 1
A176: 妇产科 | B176: 新生儿喉镜 | C176: 12312 | D176: =IF(VLOOKUP(C176,索引!A:C,2,FALSE)=0,"",VLOOKUP(C176,索引!A:C,2,FALSE)) | E176: 2021 | F176: 1
A177: 妇产科 | B177: 医用臭氧治疗仪 | C177: DT-9C | D177: =IF(VLOOKUP(C177,索引!A:C,2,FALSE)=0,"",VLOOKUP(C177,索引!A:C,2,FALSE)) | E177: 2021 | F177: 1
A178: 妇产科 | B178: 医用臭氧治疗仪 | C178: DT-9C | D178: =IF(VLOOKUP(C178,索引!A:C,2,FALSE)=0,"",VLOOKUP(C178,索引!A:C,2,FALSE)) | E178: 2021 | F178: 1
A179: 妇产科 | B179: 医用加压器（灌注泵） | C179: ZZY-I | D179: =IF(VLOOKUP(C179,索引!A:C,2,FALSE)=0,"",VLOOKUP(C179,索引!A:C,2,FALSE)) -> 桐庐洲济医疗器械有限公司 | E179: 2019 | F179: 1
A180: 妇产科 | B180: 医用空气消毒机 | C180: YKX-80 | D180: =IF(VLOOKUP(C180,索引!A:C,2,FALSE)=0,"",VLOOKUP(C180,索引!A:C,2,FALSE)) -> 成都市肯格王三氧电气设备有限公司 | E180: 2017 | F180: 1
A181: 妇产科 | B181: 医用空气消毒机 | C181: YKX-B-600 | D181: =IF(VLOOKUP(C181,索引!A:C,2,FALSE)=0,"",VLOOKUP(C181,索引!A:C,2,FALSE)) -> 成都市肯格王三氧电气设备有限公司 | E181: 2019 | F181: 1
A182: 妇产科 | B182: 医用空气消毒机 | C182: YKX-B-600 | D182: =IF(VLOOKUP(C182,索引!A:C,2,FALSE)=0,"",VLOOKUP(C182,索引!A:C,2,FALSE)) -> 成都市肯格王三氧电气设备有限公司 | E182: 2019 | F182: 1
A183: 妇产科 | B183: 医用空气消毒机 | C183: YKX-B-600 | D183: =IF(VLOOKUP(C183,索引!A:C,2,FALSE)=0,"",VLOOKUP(C183,索引!A:C,2,FALSE)) -> 成都市肯格王三氧电气设备有限公司 | E183: 2019 | F183: 1
A184: 妇产科 | B184: 医用空气消毒机 | C184: YKX-B-600 | D184: =IF(VLOOKUP(C184,索引!A:C,2,FALSE)=0,"",VLOOKUP(C184,索引!A:C,2,FALSE)) -> 成都市肯格王三氧电气设备有限公司 | E184: 2019 | F184: 1
A185: 妇产科 | B185: 医用空气消毒机 | C185: YKX-B-600 | D185: =IF(VLOOKUP(C185,索引!A:C,2,FALSE)=0,"",VLOOKUP(C185,索引!A:C,2,FALSE)) -> 成都市肯格王三氧电气设备有限公司 | E185: 2019 | F185: 1
A186: 妇产科 | B186: 医用空气消毒机 | C186: YKX-B-600 | D186: =IF(VLOOKUP(C186,索引!A:C,2,FALSE)=0,"",VLOOKUP(C186,索引!A:C,2,FALSE)) -> 成都市肯格王三氧电气设备有限公司 | E186: 2019 | F186: 1
A187: 妇产科 | B187: 医用空气消毒机 | C187: YKX-Y-800 | D187: =IF(VLOOKUP(C187,索引!A:C,2,FALSE)=0,"",VLOOKUP(C187,索引!A:C,2,FALSE)) -> 成都市肯格王三氧电气设备有限公司 | E187: 2019 | F187: 1
A188: 妇产科 | B188: 医用空气压缩机 | C188: TF5000@ | D188: =IF(VLOOKUP(C188,索引!A:C,2,FALSE)=0,"",VLOOKUP(C188,索引!A:C,2,FALSE)) -> 北京神鹿腾飞医疗科技有限公司 | E188: 2019 | F188: 1
... A601: 麻醉科手术室 | B601: 麻醉视频喉镜 | C601: BD-DP | D601: =IF(VLOOKUP(C601,索引!A:C,2,FALSE)=0,"",VLOOKUP(C601,索引!A:C,2,FALSE)) | E601: 2022 | F601: 1
A602: 麻醉科手术室 | B602: 神经探测仪 | D602: =IF(VLOOKUP(C602,索引!A:C,2,FALSE)=0,"",VLOOKUP(C602,索引!A:C,2,FALSE)) -> #N/A | E602: 2020 | F602: 1
A603: 麻醉科手术室 | B603: 手术显微镜 | C603: ZC-X-6A | D603: =IF(VLOOKUP(C603,索引!A:C,2,FALSE)=0,"",VLOOKUP(C603,索引!A:C,2,FALSE)) -> 镇江市卓创医疗科技有限公司 | E603: 2019 | F603: 1
A604: 麻醉科手术室 | B604: 双极电切内窥镜 | C604: J0330E | D604: =IF(VLOOKUP(C604,索引!A:C,2,FALSE)=0,"",VLOOKUP(C604,索引!A:C,2,FALSE)) -> 沈阳沈大内窥镜有限公司 | E604: 2020 | F604: 1
A605: 麻醉科手术室 | B605: 心脏除颤仪 | C605: PRIMEDIC Defi-B | D605: =IF(VLOOKUP(C605,索引!A:C,2,FALSE)=0,"",VLOOKUP(C605,索引!A:C,2,FALSE)) -> 德国罗吉世有限公司 | E605: 2010 | F605: 1
A606: 麻醉科手术室 | B606: 新生儿喉镜 | C606: 12312 | D606: =IF(VLOOKUP(C606,索引!A:C,2,FALSE)=0,"",VLOOKUP(C606,索引!A:C,2,FALSE)) | E606: 2021 | F606: 1
A607: 麻醉科手术室 | B607: 新生儿喉镜 | C607: 12312 | D607: =IF(VLOOKUP(C607,索引!A:C,2,FALSE)=0,"",VLOOKUP(C607,索引!A:C,2,FALSE)) | E607: 2021 | F607: 1
A608: 麻醉科手术室 | B608: 血气生化分析仪 | C608: i15A | D608: =IF(VLOOKUP(C608,索引!A:C,2,FALSE)=0,"",VLOOKUP(C608,索引!A:C,2,FALSE)) -> 深圳市理邦精密仪器有限公司 | E608: 2022 | F608: 1
A609: 麻醉科手术室 | B609: 医用骨科电钻 | C609: ZAZJ-I | D609: =IF(VLOOKUP(C609,索引!A:C,2,FALSE)=0,"",VLOOKUP(C609,索引!A:C,2,FALSE)) -> #N/A | E609: 2019 | F609: 1
A610: 麻醉科手术室 | B610: 医用可视喉镜 | C610: HYHJ-1320 | D610: =IF(VLOOKUP(C610,索引!A:C,2,FALSE)=0,"",VLOOKUP(C610,索引!A:C,2,FALSE)) | E610: 2019 | F610: 1
A611: 麻醉科手术室 | B611: 医用可视麻醉喉镜（可挑声门） | C611: insight iS3 | D611: =IF(VLOOKUP(C611,索引!A:C,2,FALSE)=0,"",VLOOKUP(C611,索引!A:C,2,FALSE)) -> 深圳因赛德思医疗科技有限公司 | E611: 2025 | F611: 1
A612: 麻醉科手术室 | B612: 医用升温毯 | C612: TMS-W101 | D612: =IF(VLOOKUP(C612,索引!A:C,2,FALSE)=0,"",VLOOKUP(C612,索引!A:C,2,FALSE)) -> 杭州坦帕医疗科技有限公司 | E612: 2025 | F612: 1
A613: 麻醉科手术室 | B613: 医用升温毯 | C613: TMS-W101 | D613: =IF(VLOOKUP(C613,索引!A:C,2,FALSE)=0,"",VLOOKUP(C613,索引!A:C,2,FALSE)) -> 杭州坦帕医疗科技有限公司 | E613: 2025 | F613: 1
A614: 麻醉科手术室 | B614: 移动式C形臂X射线机 | C614: HMC-50 | D614: =IF(VLOOKUP(C614,索引!A:C,2,FALSE)=0,"",VLOOKUP(C614,索引!A:C,2,FALSE)) -> 北京万东鼎力医疗设备有限公司 | E614: 2019 | F614: 1
A615: 麻醉科手术室 | B615: 婴儿辐射保暖台 | C615: HKN-9010 | D615: =IF(VLOOKUP(C615,索引!A:C,2,FALSE)=0,"",VLOOKUP(C615,索引!A:C,2,FALSE)) -> 宁波戴维医疗器械股份有限公司 | E615: 2019 | F615: 1
A616: 麻醉科手术室 | B616: 婴儿辐射保暖台 | C616: HKN-93 | D616: =IF(VLOOKUP(C616,索引!A:C,2,FALSE)=0,"",VLOOKUP(C616,索引!A:C,2,FALSE)) | E616: 2021 | F616: 1
A617: 麻醉科手术室 | B617: 注射泵 | C617: LINZ-8B | D617: =IF(VLOOKUP(C617,索引!A:C,2,FALSE)=0,"",VLOOKUP(C617,索引!A:C,2,FALSE)) -> 上海雷恩医疗器械有限公司 | E617: 2019 | F617: 1
A618: 麻醉科手术室 | B618: 注射泵 | C618: KL-6011N | D618: =IF(VLOOKUP(C618,索引!A:C,2,FALSE)=0,"",VLOOKUP(C618,索引!A:C,2,FALSE)) -> 北京科力建元医疗科技有限公司 | E618: 2019 | F618: 1
A619: 麻醉科手术室 | B619: 自体血液回收机 | C619: BW-8100A | D619: =IF(VLOOKUP(C619,索引!A:C,2,FALSE)=0,"",VLOOKUP(C619,索引!A:C,2,FALSE)) -> 北京万东康源科技开发有限公司 | E619: 2024 | F619: 1
... A641: 泌尿外科 | B641: 体外冲击波碎石机 | C641: HK.ESWL-109 | D641: =IF(VLOOKUP(C641,索引!A:C,2,FALSE)=0,"",VLOOKUP(C641,索引!A:C,2,FALSE)) -> 深圳市慧康医疗器械有限公司 | E641: 2019 | F641: 1
A642: 泌尿外科 | B642: 硬性纤维输尿管肾镜 | C642: 9802.867 | D642: =IF(VLOOKUP(C642,索引!A:C,2,FALSE)=0,"",VLOOKUP(C642,索引!A:C,2,FALSE)) | E642: 2022 | F642: 1
A643: 泌尿外科 | B643: 硬性纤维输尿管肾镜 | C643: 9803.867 | D643: =IF(VLOOKUP(C643,索引!A:C,2,FALSE)=0,"",VLOOKUP(C643,索引!A:C,2,FALSE)) | E643: 2022 | F643: 1
A644: 皮肤科 | B644: 半导体激光治疗机 | C644: JLT-MD500A | D644: =IF(VLOOKUP(C644,索引!A:C,2,FALSE)=0,"",VLOOKUP(C644,索引!A:C,2,FALSE)) -> 武汉金莱特光电子有限公司 | E644: 2021 | F644: 1
A645: 皮肤科 | B645: 半导体激光治疗机 | C645: SUNDOM-300IB233 | D645: =IF(VLOOKUP(C645,索引!A:C,2,FALSE)=0,"",VLOOKUP(C645,索引!A:C,2,FALSE)) -> 北京三顿医疗设备有限公司 | E645: 2021 | F645: 1
A646: 皮肤科 | B646: 半导体激光治疗机 | C646: KL-600C | D646: =IF(VLOOKUP(C646,索引!A:C,2,FALSE)=0,"",VLOOKUP(C646,索引!A:C,2,FALSE)) -> 吉林省科英激光股份有限公司 | E646: 2024 | F646: 1
A647: 皮肤科 | B647: 二氧化碳激光治疗机 | C647: JZ-2 | D647: =IF(VLOOKUP(C647,索引!A:C,2,FALSE)=0,"",VLOOKUP(C647,索引!A:C,2,FALSE)) -> 成都国雄光电技术有限公司 | E647: 2021 | F647: 1
A648: 皮肤科 | B648: 强脉冲光治疗仪 | C648: QUEEN-93 | D648: =IF(VLOOKUP(C648,索引!A:C,2,FALSE)=0,"",VLOOKUP(C648,索引!A:C,2,FALSE)) -> 武汉奇致激光技术股份有限公司 | E648: 2022 | F648: 1
A649: 皮肤科 | B649: 医用空气消毒机 | C649: YKX-Y-800 | D649: =IF(VLOOKUP(C649,索引!A:C,2,FALSE)=0,"",VLOOKUP(C649,索引!A:C,2,FALSE)) -> 成都市肯格王三氧电气设备有限公司 | E649: 2020 | F649: 1
A650: 普外科 | B650: 病人监护仪 | C650: M8 | D650: =IF(VLOOKUP(C650,索引!A:C,2,FALSE)=0,"",VLOOKUP(C650,索引!A:C,2,FALSE)) -> 深圳市理邦精密仪器有限公司 | E650: 2010 | F650: 1
A651: 普外科 | B651: 病人监护仪 | C651: GS20 | D651: =IF(VLOOKUP(C651,索引!A:C,2,FALSE)=0,"",VLOOKUP(C651,索引!A:C,2,FALSE)) -> 飞利浦金科威（深圳）实业有限公司 | E651: 2017 | F651: 1
A652: 普外科 | B652: 病人监护仪 | C652: GS20 | D652: =IF(VLOOKUP(C652,索引!A:C,2,FALSE)=0,"",VLOOKUP(C652,索引!A:C,2,FALSE)) -> 飞利浦金科威（深圳）实业有限公司 | E652: 2017 | F652: 1
A653: 普外科 | B653: 病人监护仪 | C653: GS20 | D653: =IF(VLOOKUP(C653,索引!A:C,2,FALSE)=0,"",VLOOKUP(C653,索引!A:C,2,FALSE)) -> 飞利浦金科威（深圳）实业有限公司 | E653: 2017 | F653: 1
A654: 普外科 | B654: 病人监护仪 | C654: iPM 10 | D654: =IF(VLOOKUP(C654,索引!A:C,2,FALSE)=0,"",VLOOKUP(C654,索引!A:C,2,FALSE)) -> 深圳迈瑞生物医疗电子股份有限公司 | E654: 2019 | F654: 1
A655: 普外科 | B655: 病人监护仪 | C655: iPM 10 | D655: =IF(VLOOKUP(C655,索引!A:C,2,FALSE)=0,"",VLOOKUP(C655,索引!A:C,2,FALSE)) -> 深圳迈瑞生物医疗电子股份有限公司 | E655: 2019 | F655: 1
... A743: 消毒供应室 | B743: 全自动喷淋清洗消毒机 | C743: Rapid-M-320 | D743: =IF(VLOOKUP(C743,索引!A:C,2,FALSE)=0,"",VLOOKUP(C743,索引!A:C,2,FALSE)) -> 山东新华医疗器械股份有限公司 | E743: 2014 | F743: 1
A744: 消毒供应室 | B744: 全自动生物阅读器 | C744: 390 | D744: =IF(VLOOKUP(C744,索引!A:C,2,FALSE)=0,"",VLOOKUP(C744,索引!A:C,2,FALSE)) -> 美国3M | E744: 2014 | F744: 1
A745: 消毒供应室 | B745: 手持式ATP荧光检测仪 | C745: EZ01 | D745: =IF(VLOOKUP(C745,索引!A:C,2,FALSE)=0,"",VLOOKUP(C745,索引!A:C,2,FALSE)) -> 山东新华医疗器械股份有限公司 | E745: 2025 | F745: 1
A746: 消毒供应室 | B746: 手机养护宝 | C746: BLF-600Y | D746: =IF(VLOOKUP(C746,索引!A:C,2,FALSE)=0,"",VLOOKUP(C746,索引!A:C,2,FALSE)) -> 四川贝利福医疗器械有限公司 | E746: 2021 | F746: 1
A747: 消毒供应室 | B747: 医用超声波清洁机 | C747: QX2000 | D747: =IF(VLOOKUP(C747,索引!A:C,2,FALSE)=0,"",VLOOKUP(C747,索引!A:C,2,FALSE)) -> 山东新华医疗器械股份有限公司 | E747: 2014 | F747: 1
A748: 消毒供应室 | B748: 医用纯化水设备 | C748: EKUS-I-500L | D748: =IF(VLOOKUP(C748,索引!A:C,2,FALSE)=0,"",VLOOKUP(C748,索引!A:C,2,FALSE)) -> 山东新华医疗器械股份有限公司 | E748: 2014 | F748: 1
A749: 消毒供应室 | B749: 医用封口机 | C749: MXFK-808 | D749: =IF(VLOOKUP(C749,索引!A:C,2,FALSE)=0,"",VLOOKUP(C749,索引!A:C,2,FALSE)) -> / | E749: 2014 | F749: 1
A750: 消毒供应室 | B750: 医用干燥柜 | D750: =IF(VLOOKUP(C750,索引!A:C,2,FALSE)=0,"",VLOOKUP(C750,索引!A:C,2,FALSE)) -> #N/A | E750: 2014 | F750: 1
A751: 消毒供应室 | B751: 医用干燥柜 | C751: YGZ-2000S | D751: =IF(VLOOKUP(C751,索引!A:C,2,FALSE)=0,"",VLOOKUP(C751,索引!A:C,2,FALSE)) -> 山东新华医疗器械股份有限公司 | E751: 2025 | F751: 1
A752: 消毒供应室 | B752: 医用空气消毒机 | C752: YKX-Y-800 | D752: =IF(VLOOKUP(C752,索引!A:C,2,FALSE)=0,"",VLOOKUP(C752,索引!A:C,2,FALSE)) -> 成都市肯格王三氧电气设备有限公司 | E752: 2020 | F752: 1
A753: 消毒供应室 | B753: 硬式内镜清洗工作站 | C753: LK/NQX-R | D753: =IF(VLOOKUP(C753,索引!A:C,2,FALSE)=0,"",VLOOKUP(C753,索引!A:C,2,FALSE)) | E753: 2023 | F753: 1
A754: 消化内科 | B754: 病人监护仪 | C754: ePM 10 | D754: =IF(VLOOKUP(C754,索引!A:C,2,FALSE)=0,"",VLOOKUP(C754,索引!A:C,2,FALSE)) -> 深圳迈瑞生物医疗电子股份有限公司 | E754: 2022 | F754: 1
A755: 消化内科 | B755: 病人监护仪 | C755: ePM 10 | D755: =IF(VLOOKUP(C755,索引!A:C,2,FALSE)=0,"",VLOOKUP(C755,索引!A:C,2,FALSE)) -> 深圳迈瑞生物医疗电子股份有限公司 | E755: 2022 | F755: 1
A756: 消化内科 | B756: 病人监护仪 | C756: ePM 10 | D756: =IF(VLOOKUP(C756,索引!A:C,2,FALSE)=0,"",VLOOKUP(C756,索引!A:C,2,FALSE)) -> 深圳迈瑞生物医疗电子股份有限公司 | E756: 2022 | F756: 1
A757: 消化内科 | B757: 病人监护仪 | C757: ePM 10 | D757: =IF(VLOOKUP(C757,索引!A:C,2,FALSE)=0,"",VLOOKUP(C757,索引!A:C,2,FALSE)) -> 深圳迈瑞生物医疗电子股份有限公司 | E757: 2022 | F757: 1
A758: 消化内科 | B758: 病人监护仪 | C758: ePM 10 | D758: =IF(VLOOKUP(C758,索引!A:C,2,FALSE)=0,"",VLOOKUP(C758,索引!A:C,2,FALSE)) -> 深圳迈瑞生物医疗电子股份有限公司 | E758: 2022 | F758: 1
A759: 消化内科 | B759: 病人监护仪 | C759: ePM 10 | D759: =IF(VLOOKUP(C759,索引!A:C,2,FALSE)=0,"",VLOOKUP(C759,索引!A:C,2,FALSE)) -> 深圳迈瑞生物医疗电子股份有限公司 | E759: 2022 | F759: 1
A760: 消化内科 | B760: 储镜柜 | C760: JMBA-10A | D760: =IF(VLOOKUP(C760,索引!A:C,2,FALSE)=0,"",VLOOKUP(C760,索引!A:C,2,FALSE)) -> 江苏洁曼医疗科技有限公司 | E760: 2025 | F760: 1
A761: 消化内科 | B761: 电子大肠内窥镜 | C761: CF-H170I | D761: =IF(VLOOKUP(C761,索引!A:C,2,FALSE)=0,"",VLOOKUP(C761,索引!A:C,2,FALSE)) -> 奥林巴斯医疗株式会社 | E761: 2022 | F761: 1
A762: 消化内科 | B762: 电子上消化道内窥镜 | C762: GIF-H170 | D762: =IF(VLOOKUP(C762,索引!A:C,2,FALSE)=0,"",VLOOKUP(C762,索引!A:C,2,FALSE)) -> 奥林巴斯医疗株式会社 | E762: 2022 | F762: 1
... A1135: 心血管内科 | B1135: 睡眠呼吸初筛仪 | C1135: YH-600B Pro | D1135: =IF(VLOOKUP(C1135,索引!A:C,2,FALSE)=0,"",VLOOKUP(C1135,索引!A:C,2,FALSE)) -> 北京瑞迈特医疗科技股份有限公司 | E1135: 2026 | F1135: 1
A1136: 心血管内科 | B1136: 临时起搏器 | C1136: 6108 | D1136: =IF(VLOOKUP(C1136,索引!A:C,2,FALSE)=0,"",VLOOKUP(C1136,索引!A:C,2,FALSE)) -> 深圳市先健心康医疗电子有限公司 | E1136: 2026 | F1136: 1
A1137: 检验科 | B1137: 低速离心机 | C1137: DD-5G | D1137: =IF(VLOOKUP(C1137,索引!A:C,2,FALSE)=0,"",VLOOKUP(C1137,索引!A:C,2,FALSE)) -> 四川蜀科仪器有限公司 | E1137: 2026 | F1137: 1
A1138: 检验科 | B1138: 低速离心机 | C1138: TD-4Z | D1138: =IF(VLOOKUP(C1138,索引!A:C,2,FALSE)=0,"",VLOOKUP(C1138,索引!A:C,2,FALSE)) -> 四川蜀科仪器有限公司 | E1138: 2026 | F1138: 1
A1139: 检验科 | B1139: 全自动染色机 | C1139: DL-DYE-GA-32 | D1139: =IF(VLOOKUP(C1139,索引!A:C,2,FALSE)=0,"",VLOOKUP(C1139,索引!A:C,2,FALSE)) -> 珠海迪尔生物工程股份有限公司 | E1139: 2026 | F1139: 1
A1140: 检验科 | B1140: 医用冷藏保存箱 | C1140: MPC-5V730S | D1140: =IF(VLOOKUP(C1140,索引!A:C,2,FALSE)=0,"",VLOOKUP(C1140,索引!A:C,2,FALSE)) -> 安徽中科都菱商用电器股份有限公司 | E1140: 2026 | F1140: 1
A1141: 检验科 | B1141: 医用冷藏保存箱 | C1141: MPC-5V730S | D1141: =IF(VLOOKUP(C1141,索引!A:C,2,FALSE)=0,"",VLOOKUP(C1141,索引!A:C,2,FALSE)) -> 安徽中科都菱商用电器股份有限公司 | E1141: 2026 | F1141: 1
A1142: 检验科 | B1142: 生物显微镜 | C1142: RX50LED | D1142: =IF(VLOOKUP(C1142,索引!A:C,2,FALSE)=0,"",VLOOKUP(C1142,索引!A:C,2,FALSE)) -> 宁波舜宇仪器有限公司 | E1142: 2026 | F1142: 1
A1143: 骨科 | B1143: 空气波压力循环治疗仪 | C1143: IPC－6000B | D1143: =IF(VLOOKUP(C1143,索引!A:C,2,FALSE)=0,"",VLOOKUP(C1143,索引!A:C,2,FALSE)) -> 吉林省日成医用电子器材有限公司 | E1143: 2026 | F1143: 1
A1144: 急诊科 | B1144: 加温快速输注仪 | C1144: HL-JW-113 | D1144: =IF(VLOOKUP(C1144,索引!A:C,2,FALSE)=0,"",VLOOKUP(C1144,索引!A:C,2,FALSE)) -> 河北华蓝医疗器械有限公司 | E1144: 2026 | F1144: 1
A1145: 急诊科 | B1145: 手术辅助照明灯 | C1145: 白光 | D1145: =IF(VLOOKUP(C1145,索引!A:C,2,FALSE)=0,"",VLOOKUP(C1145,索引!A:C,2,FALSE)) -> 潮州市潮安区康佰佳医疗器械厂 | E1145: 2026 | F1145: 1
A1146: 门诊部 | B1146: 医用空气消毒机 | C1146: YKX-B-1000 | D1146: =IF(VLOOKUP(C1146,索引!A:C,2,FALSE)=0,"",VLOOKUP(C1146,索引!A:C,2,FALSE)) -> 成都市肯格王三氧电气设备有限公司 | E1146: 2026 | F1146: 1
A1147: 门诊部 | B1147: 医用空气消毒机 | C1147: YKX-B-1000 | D1147: =IF(VLOOKUP(C1147,索引!A:C,2,FALSE)=0,"",VLOOKUP(C1147,索引!A:C,2,FALSE)) -> 成都市肯格王三氧电气设备有限公司 | E1147: 2026 | F1147: 1
A1148: 门诊部 | B1148: 医用空气消毒机 | C1148: YKX-B-1000 | D1148: =IF(VLOOKUP(C1148,索引!A:C,2,FALSE)=0,"",VLOOKUP(C1148,索引!A:C,2,FALSE)) -> 成都市肯格王三氧电气设备有限公司 | E1148: 2026 | F1148: 1
... A1166: 肾内科 | B1166: 血液透析机 | C1166: SWS-6000 | D1166: =IF(VLOOKUP(C1166,索引!A:C,2,FALSE)=0,"",VLOOKUP(C1166,索引!A:C,2,FALSE)) -> 重庆山外山血液净化技术股份有限公司 | E1166: 2026 | F1166: 1

Sheet 索引
A1: 型号 | B1: 生产厂家 | C1: 注册证号
A2: 390 | B2: 美国3M | C2: /
A3: 9802.867
A4: 9803.867
A5: 12312
A6: 3001型 | B6: 上海科凌医疗器械责任有限公司 | C6: /
A7: 46076型
A8: 5700C | B8: 锐珂（上海）医疗器材有限公司 | C8: 沪浦械备20150003号
A9: 7C | B9: 江苏鱼跃医疗设备股份有限公司 | C9: 苏械注准20162540237
A10: 7DI | B10: 江苏鱼跃医疗设备股份有限公司 | C10: 苏械注准20172540154
A11: 90D
A12: A1S | B12: 广州一康医疗设备实业有限公司 | C12: 粤械注准20192190389
A13: A50
A14: A50;Φ3.8mm
A15: ABL80 FLEX | B15: 雷度米特医疗设备（上海）有限公司 | C15: 国械注进20172401025
A16: ABPM50 | B16: 康泰医学系统（秦皇岛）股份有限公司 | C16: 冀食药监械（准）字2014第2210156号
A17: ACU-H2H | B17: 爱科凯能科技（北京）股份有限公司 | C17: 国械注准20183011787
A18: Aeon7400A | B18: 北京谊安医疗系统股份有限公司公司 | C18: 国食药监械（准）字2008第3541119号
A19: Affiniti 70 | B19: 飞利浦超声股份有限公司 | C19: 国械注进20153231349
A20: AGS8830-16 | B20: 杭州安誉科技有限公司 | C20: 国械注准20203220748
A21: AII6000A | B21: 深圳市安保科技有限公司 | C21: 国械注准20153541579
A22: AJ/CDX-600 | B22: 四川奥洁消毒设备有限公司 | C22: 川（成都-新都）卫消证字（2018）第0001号
A23: ArmGuider-NSS | B23: 上海卓通医疗科技有限公司 | C23: 沪械注准20182190338
A24: ASR-4000E | B24: 深圳安科高技术股份有限公司 | C24: 粤械注准20192060582
A25: Auto Sight 900 | B25: 广东福地新视野光电技术有限公司 | C25: 粤械注准20152220793
A26: Autra 9600 Plus | B26: 上海之江生物医药科技有限公司 | C26: 沪械注准20212220551
... A30: BC-6900 | B30: 深圳迈瑞生物医疗电子股份有限公司 | C30: 粤食药监械（准）字2013第2401340号
A31: BD-DP
A32: BeneHeart D3 | B32: 深圳迈瑞生物医疗电子股份有限公司 | C32: 国械注准20173210600
A33: BeneHeart R12 | B33: 深圳迈瑞生物医疗电子股份有限公司 | C33: 粤食药监械（准）字2013第2211313号
A34: BeneVision N1 | B34: 深圳迈瑞生物医疗电子股份有限公司 | C34: 国械注准20173211480
A35: BeneVision N12 | B35: 深圳迈瑞生物医疗电子股份有限公司 | C35: 国械注准20173210926
A36: BeneVision N15 | B36: 深圳迈瑞生物医疗电子股份有限公司 | C36: 国械注准20173070926
A37: BF-1TQ170 | B37: 奥林巴斯医疗株式会社
A38: BI 12E | B38: 深圳市博英医疗仪器科技有限公司 | C38: 粤械注准20152070480
A39: BI5000 | B39: 深圳市博英医疗仪器科技有限公司 | C39: 粤械注准20162070582
A40: BI9900 | B40: 深圳市博英医疗仪器科技有限公司 | C40: 粤械注准20172211766
A41: BioZ-2011-101 | B41: 深圳市麦德安医疗设备有限公司 | C41: 粤械注准20172070020
A42: BiPAP A40 | B42: 飞利浦(中国)投资有限公司 | C42: 国食药监械（进）字2014第3542940号
A43: BLF-600Y | B43: 四川贝利福医疗器械有限公司 | C43: /
A44: BM-100A
A45: BRD-5000B2 | B45: 深圳市百瑞达科技有限公司 | C45: 粤食药监械（准）字2006第2400073号
A46: BS-2000 | B46: 深圳迈瑞生物医疗电子股份有限公司 | C46: 粤械注准20152221145
A47: BSC-1100IIA2-X | B47: 济南鑫贝西生物技术有限公司
A48: BSC-1500IIA2-X | B48: 济南鑫贝西生物技术有限公司 | C48: 国械注准20143222263
A49: BSC-3FA2 | B49: 山东博科生物产业有限公司 | C49: 国械注准20163220412
A50: BY-DBT-1
A51: C3 | B51: 深圳市理邦精密仪器有限公司 | C51: 粤械注准20192180893
A52: C3510 | B52: 深圳迈瑞生物医疗电子股份有限公司 | C52: 京械注准20162401114
A53: carina | B53: 德尔格制造股份两合公司 | C53: 国械注进20163541981
A54: CD-1A-A | B54: 长春艾尔医疗电器有限公司 | C54: 吉食药监械（准）字2014第2250079号
A55: CF-H170I | B55: 奥林巴斯医疗株式会社
A56: CJ-R0 II-2500 | B56: 四川纯洁科技有限公司 | C56: 川械注准20192100051
A57: CJ-ROG-Ⅱ-500 | B57: 四川纯洁科技有限公司
A58: CL-2200i | B58: 深圳迈瑞生物医疗电子股份有限公司 | C58: 国械注准20173400696
A59: CL-6000i | B59: 深圳迈瑞生物医疗电子股份有限公司 | C59: 粤械注准20172401898
A60: Clean-Q | B60: 山东新华医疗器械股份有限公司
A61: CLED-K2
A62: CNT-W200 | B62: 北京科力建元医疗科技有限公司 | C62: 京械注准20152540053
A63: CONTEC8000G | B63: 康泰医学系统（秦皇岛）股份有限公司 | C63: 冀食药监械（准）字2014第2210047号
A64: CPAP C | B64: 嘉和美康（北京）科技股份有限公司 | C64: 京械注准20152541168
A65: CQ-215 | B65: 广州市创旗医疗器械有限公司 | C65: 粤食药监械（准）字2007第2550175号
A66: CTN-SY-100A | B66: 北京科力建元医疗科技有限公司 | C66: 京械注准20152541034
A67: CV-170 | B67: 奥林巴斯医疗株式会社 | C67: 国协注进20152221796
A68: CV-2000leep | B68: 北京康成电子技术有限公司 | C68: 国械注准20163250395
A69: CX23LEDRFS1C | B69: 奥林巴斯（广州）工业有限公司 | C69: 粤械注准20152220084
A70: CXD-W | B70: 成都丹翔电气设备有限公司 | C70: 川（成都-青白江）卫消证字（2018）第0001号
A71: DBA-210 | B71: 吉林东华原医疗设备有限责任公司 | C71: 吉械注准20202070083
A72: DC-25 | B72: 深圳迈瑞生物医疗电子股份有限公司 | C72: 粤械注准20172231361
A73: DC-55 | B73: 深圳迈瑞生物医疗电子股份有限公司 | C73: 粤械注准20152230534
... A86: DT-8B | B86: 徐州市鼎泰电子科技有限公司 | C86: 苏械注准20172540156
A87: DT-9C
A88: DW-25L262 | B88: 青岛海尔生物医疗股份有限公司 | C88: 鲁械注准20162580180
A89: DW-25W198 | B89: 青岛海尔生物医疗股份有限公司 | C89: 鲁械注准20162580180
A90: DW-40L348J | B90: 青岛海尔生物医疗股份有限公司 | C90: 鲁械注准20162580180
A91: DW-86L338J | B91: 青岛海尔生物医疗股份有限公司 | C91: 鲁械注准20162580180
A92: DXT-1 | B92: 上海祁鑫医疗器械厂 | C92: /
A93: DXW-2A | B93: 上海祁鑫医疗器械厂 | C93: 沪食药监械（准）字2014第2540038号
A94: DYX-1A | B94: 上海祁鑫医疗器械厂 | C94: 沪食药监械（准）字2010第2540830号
A95: E30 | B95: 广东宝莱特医用科技股份有限公司 | C95: 粤食药监械（准）字2013第2210214号
A96: EB03 | B96: 上海力申科学仪器有限公司 | C96: 国械注准20163252520
A97: ECG-1210 | B97: 深圳邦健生物医疗设备股份有限公司 | C97: 粤食药监械（准）字2013第2210205号
A98: E-GXQ-03
A99: EKUS-I-500L | B99: 山东新华医疗器械股份有限公司 | C99: /
A100: EKUS-I-60L | B100: 四川宜科纯水设备有限公司 | C100: /
A101: ePM 10 | B101: 深圳迈瑞生物医疗电子股份有限公司 | C101: 国械注准20193070147
A102: ePM 10 Neo | B102: 深圳迈瑞生物医疗电子股份有限公司 | C102: 国械注准20193070144
A103: EV-NC20 | B103: 德国艾克松有限公司 | C103: 国械注进20152222779
A104: EX3600 | B104: 上海之江生物医药科技有限公司 | C104: 沪闵械备20180001号
A105: EXC810 | B105: 北京普利生仪器有限公司 | C105: 京械注准20172400197
A106: F6 | B106: 深圳市理邦精密仪器有限公司 | C106: 粤械注准20172230120
A107: FA180S | B107: 四川沃文特生物技术有限公司 | C107: 川械注准20192220140
A108: FA2004N
A109: FA-220 | B109: 山西亚森实业股份有限公司 | C109: 晋械注准20162400014
A110: FA-800 | B110: 山西亚森实业股份有限公司 | C110: 晋食药监械（准）字2012第2400009号
A111: Fabius plus XL | B111: 上海德尔格医疗器械有限公司 | C111: 国械注准20163541068
A112: FI-16RBS | B112: 宾得医疗器械（上海）有限公司 | C112: 国械注进20162225125
A113: FIA-T-01 | B113: 广州天宝颂原生物科技开发有限公司 | C113: /
A114: FUS-1000 | B114: 迪瑞医疗科技股份有限公司 | C114: 吉械注准20182400050
A115: FYQ | B115: 长春博研科学仪器有限责任公司 | C115: 吉食药监械（准）字2012第1400001号
...

Sheet 非医疗设备
A1: 科室 | B1: 名称 | C1: 购买公司 | D1: 价格
A2: 中医科 | B2: 床头柜 | C2: 成都宸源医疗器械有限公司 | D2: 6400
A3: 中医科 | B3: 钢制床 | C3: 成都宸源医疗器械有限公司 | D3: 47200
A4: 中医科 | B4: 定PT床 | C4: 四川省福乐瑞兴医疗器械有限公司 | D4: 1550
A5: 中医科 | B5: 定PT床 | C5: 四川省福乐瑞兴医疗器械有限公司 | D5: 1550
A6: 中医科 | B6: 定PT床 | C6: 四川省福乐瑞兴医疗器械有限公司 | D6: 1550
A7: 中医科 | B7: 定PT床 | C7: 四川省福乐瑞兴医疗器械有限公司 | D7: 1550
A8: 中医科 | B8: 多功能翻身床 | C8: 四川岚彩医疗器械有限公司 | D8: 5400
A9: 中医科 | B9: 多功能翻身床 | C9: 四川岚彩医疗器械有限公司 | D9: 5400
A10: 中医科 | B10: 多功能翻身床 | C10: 四川岚彩医疗器械有限公司 | D10: 5400
A11: 中医科 | B11: 多功能翻身床 | C11: 四川岚彩医疗器械有限公司 | D11: 5400
A12: 中医科 | B12: 多功能翻身床 | C12: 四川岚彩医疗器械有限公司 | D12: 5400
A13: 中医科 | B13: 多功能翻身床 | C13: 四川岚彩医疗器械有限公司 | D13: 5400
... A646: 急诊科 | B646: 液晶彩显高级全自动电脑心肺复苏模拟人 | C646: 四川省福乐瑞兴医疗器械有限公司 | D646: 8500
A647: 急诊科 | B647: 全身真空夹板 | D647: 5800
A648: 急诊科 | B648: 脊柱固定板 | D648: 9800
A649: 急诊科 | B649: 挎包式急救包 | D649: 2600
A650: 急诊科 | B650: 担架 | C650: 四川省福乐瑞兴医疗器械有限公司 | D650: 6600
A651: 急诊科 | B651: 担架 | C651: 四川省福乐瑞兴医疗器械有限公司 | D651: 6600
A652: 急诊科 | B652: 落地式输液架（带轮） | C652: 四川省福乐瑞兴医疗器械有限公司 | D652: 215
A653: 急诊科 | B653: 落地式输液架（带轮） | C653: 四川省福乐瑞兴医疗器械有限公司 | D653: 215
A654: 急诊科 | B654: 落地式输液架（带轮） | C654: 四川省福乐瑞兴医疗器械有限公司 | D654: 215
A655: 急诊科 | B655: 落地式输液架（带轮） | C655: 四川省福乐瑞兴医疗器械有限公司 | D655: 215
A656: 急诊科 | B656: 落地式输液架（带轮） | C656: 四川省福乐瑞兴医疗器械有限公司 | D656: 215
A657: 急诊科 | B657: 落地式输液架（带轮） | C657: 四川省福乐瑞兴医疗器械有限公司 | D657: 215
A658: 急诊科 | B658: 落地式输液架（带轮） | C658: 四川省福乐瑞兴医疗器械有限公司 | D658: 215
A659: 急诊科 | B659: 落地式输液架（带轮） | C659: 四川省福乐瑞兴医疗器械有限公司 | D659: 215
A660: 急诊科 | B660: 落地式输液架（带轮） | C660: 四川省福乐瑞兴医疗器械有限公司 | D660: 215
A661: 急诊科 | B661: 落地式输液架（带轮） | C661: 四川省福乐瑞兴医疗器械有限公司 | D661: 215
... A1097: 普外科 | B1097: 不锈钢四小轮病人推车 | C1097: 成都康德宝商贸有限公司 | D1097: 1800

Sheet 报废设备
A1: 科室 | B1: 设备名称 | C1: 价格
A2: B超室 | B2: 心电图机 | C2: 27000
A3: B超室 | B3: 心电图机 | C3: 9500
A4: B超室 | B4: 彩色多普勒超声诊断仪 | C4: 458000
A5: B超室 | B5: 拜耳B超 | C5: 101900
A6: 成都市新都区第三人民医院 | B6: 无影灯 | C6: 8410
A7: 成都市新都区第三人民医院 | B7: 洁净工作台 | C7: 5200
A8: 成都市新都区第三人民医院 | B8: 洗胃机 | C8: 2580
A9: 成都市新都区第三人民医院 | B9: 病床 | C9: 23360
A10: 成都市新都区第三人民医院 | B10: 三氧消毒机 | C10: 1850
A11: 成都市新都区第三人民医院 | B11: 器械台 | C11: 1760
A12: 成都市新都区第三人民医院 | B12: 裂隙灯 | C12: 15000
A13: 成都市新都区第三人民医院 | B13: 动能控多功能牵引床 | C13: 2112
... A96: 理疗科 | B96: 洗板机 | C96: 20000
