Workbook

Sheet 医师医技类
A1: 成都市新都区第三人民医院2026年 编外人员招聘总成绩及进入体检人员（医师类）
A2: 2026.08.06
A3: 序号 | B3: 招聘岗位 | C3: 考号 | D3: 姓名 | E3: 笔试成绩 | F3: 笔试折合成绩60% | G3: 面试成绩 | H3: 面试折合成绩40% | I3: 折合总成绩 | J3: 本岗位排名 | K3: 是否进入体检 | L3: 备注
A4: 1 | B4: 心内科医师 | C4: X-1 | D4: 刘崇凯 | E4: =_xlfn.XLOOKUP(D4,[1]医师类!$D:$D,[1]医师类!$E:$E) -> 79.5 | F4: =E4*0.6 -> 47.7 | G4: =_xlfn.XLOOKUP(D4,[2]医师类!$D:$D,[2]医师类!$N:$N) -> 94.4 | H4: =G4*0.4 -> 37.76 | I4: =F4+H4 -> 85.46 | J4: 1 | K4: 是
A5: 3 | B5: 重症医学科医师 | C5: Z-2 | D5: 钟马睿寅 | E5: =_xlfn.XLOOKUP(D5,[1]医师类!$D:$D,[1]医师类!$E:$E) -> 80.5 | F5: =E5*0.6 -> 48.3 | G5: =_xlfn.XLOOKUP(D5,[2]医师类!$D:$D,[2]医师类!$N:$N) -> 90.4 | H5: =G5*0.4 -> 36.16 | I5: =F5+H5 -> 84.46 | J5: 1 | K5: 是
A6: 2 | B6: 重症医学科医师 | C6: Z-5 | D6: 周婧莹 | E6: =_xlfn.XLOOKUP(D6,[1]医师类!$D:$D,[1]医师类!$E:$E) -> 85.5 | F6: =E6*0.6 -> 51.3 | G6: =_xlfn.XLOOKUP(D6,[2]医师类!$D:$D,[2]医师类!$N:$N) -> 78.6 | H6: =G6*0.4 -> 31.44 | I6: =F6+H6 -> 82.74 | J6: 2 | K6: 否
A7: 4 | B7: 重症医学科医师 | C7: Z-9 | D7: 景黎 | E7: =_xlfn.XLOOKUP(D7,[1]医师类!$D:$D,[1]医师类!$E:$E) -> 76.5 | F7: =E7*0.6 -> 45.9 | G7: =_xlfn.XLOOKUP(D7,[2]医师类!$D:$D,[2]医师类!$N:$N) -> 82.8 | H7: =G7*0.4 -> 33.12 | I7: =F7+H7 -> 79.02 | J7: 3 | K7: 否
A8: 7 | B8: 急诊科医师 | C8: J-2 | D8: 何娜梅 | E8: =_xlfn.XLOOKUP(D8,[1]医师类!$D:$D,[1]医师类!$E:$E) -> 82 | F8: =E8*0.6 -> 49.2 | G8: =_xlfn.XLOOKUP(D8,[2]医师类!$D:$D,[2]医师类!$N:$N) -> 93.2 | H8: =G8*0.4 -> 37.28 | I8: =F8+H8 -> 86.48 | J8: 1 | K8: 是
A9: 5 | B9: 急诊科医师 | C9: J-9 | D9: 何文艳 | E9: =_xlfn.XLOOKUP(D9,[1]医师类!$D:$D,[1]医师类!$E:$E) -> 92.5 | F9: =E9*0.6 -> 55.5 | G9: =_xlfn.XLOOKUP(D9,[2]医师类!$D:$D,[2]医师类!$N:$N) -> 77.4 | H9: =G9*0.4 -> 30.96 | I9: =F9+H9 -> 86.46 | J9: 2 | K9: 否
A10: 6 | B10: 急诊科医师 | C10: J-3 | D10: 汪茂林 | E10: =_xlfn.XLOOKUP(D10,[1]医师类!$D:$D,[1]医师类!$E:$E) -> 88.5 | F10: =E10*0.6 -> 53.1 | G10: =_xlfn.XLOOKUP(D10,[2]医师类!$D:$D,[2]医师类!$N:$N) -> 78.6 | H10: =G10*0.4 -> 31.44 | I10: =F10+H10 -> 84.54 | J10: 3 | K10: 否
A11: 9 | B11: 呼吸内科医师 | C11: HX-1 | D11: 黄成 | E11: =_xlfn.XLOOKUP(D11,[1]医师类!$D:$D,[1]医师类!$E:$E) -> 94.5 | F11: =E11*0.6 -> 56.7 | G11: =_xlfn.XLOOKUP(D11,[2]医师类!$D:$D,[2]医师类!$N:$N) -> 94 | H11: =G11*0.4 -> 37.6 | I11: =F11+H11 -> 94.3 | J11: 1 | K11: 是
A12: 8 | B12: 呼吸内科医师 | C12: HX-2 | D12: 王莉 | E12: =_xlfn.XLOOKUP(D12,[1]医师类!$D:$D,[1]医师类!$E:$E) -> 96 | F12: =E12*0.6 -> 57.6 | G12: =_xlfn.XLOOKUP(D12,[2]医师类!$D:$D,[2]医师类!$N:$N) -> 79.8 | H12: =G12*0.4 -> 31.92 | I12: =F12+H12 -> 89.52 | J12: 2 | K12: 否
A13: 10 | B13: 呼吸内科医师 | C13: HX-11 | D13: 黄子芯 | E13: =_xlfn.XLOOKUP(D13,[1]医师类!$D:$D,[1]医师类!$E:$E) -> 94.5 | F13: =E13*0.6 -> 56.7 | G13: =_xlfn.XLOOKUP(D13,[2]医师类!$D:$D,[2]医师类!$N:$N) -> 78.4 | H13: =G13*0.4 -> 31.36 | I13: =F13+H13 -> 88.06 | J13: 3 | K13: 否
A14: 12 | B14: 妇产科医师 | C14: FC-6 | D14: 冯坤 | E14: =_xlfn.XLOOKUP(D14,[1]医师类!$D:$D,[1]医师类!$E:$E) -> 83.5 | F14: =E14*0.6 -> 50.1 | G14: =_xlfn.XLOOKUP(D14,[2]医师类!$D:$D,[2]医师类!$N:$N) -> 95.2 | H14: =G14*0.4 -> 38.08 | I14: =F14+H14 -> 88.18 | J14: 1 | K14: 是
A15: 13 | B15: 妇产科医师 | C15: FC-24 | D15: 罗丽霞 | E15: =_xlfn.XLOOKUP(D15,[1]医师类!$D:$D,[1]医师类!$E:$E) -> 83 | F15: =E15*0.6 -> 49.8 | G15: =_xlfn.XLOOKUP(D15,[2]医师类!$D:$D,[2]医师类!$N:$N) -> 83.8 | H15: =G15*0.4 -> 33.52 | I15: =F15+H15 -> 83.32 | J15: 2 | K15: 否
A16: 11 | B16: 妇产科医师 | C16: FC-13 | D16: 李怡香 | E16: =_xlfn.XLOOKUP(D16,[1]医师类!$D:$D,[1]医师类!$E:$E) -> 87 | F16: =E16*0.6 -> 52.2 | G16: / | H16: / | I16: / | J16: 3 | K16: 否 | L16: 面试放弃
A17: 14 | B17: 放射科医师 | C17: FS-26 | D17: 楚济西 | E17: =_xlfn.XLOOKUP(D17,[1]医师类!$D:$D,[1]医师类!$E:$E) -> 97.5 | F17: =E17*0.6 -> 58.5 | G17: =_xlfn.XLOOKUP(D17,[2]医师类!$D:$D,[2]医师类!$N:$N) -> 85.4 | H17: =G17*0.4 -> 34.16 | I17: =F17+H17 -> 92.66 | J17: 1 | K17: 是
A18: 17 | B18: 放射科医师 | C18: FS-20 | D18: 熊思宁 | E18: =_xlfn.XLOOKUP(D18,[1]医师类!$D:$D,[1]医师类!$E:$E) -> 95.5 | F18: =E18*0.6 -> 57.3 | G18: =_xlfn.XLOOKUP(D18,[2]医师类!$D:$D,[2]医师类!$N:$N) -> 86 | H18: =G18*0.4 -> 34.4 | I18: =F18+H18 -> 91.7 | J18: 2 | K18: 否
A19: 15 | B19: 放射科医师 | C19: FS-12 | D19: 王兆蕊 | E19: =_xlfn.XLOOKUP(D19,[1]医师类!$D:$D,[1]医师类!$E:$E) -> 97 | F19: =E19*0.6 -> 58.2 | G19: =_xlfn.XLOOKUP(D19,[2]医师类!$D:$D,[2]医师类!$N:$N) -> 78 | H19: =G19*0.4 -> 31.2 | I19: =F19+H19 -> 89.4 | J19: 3 | K19: 否
A20: 16 | B20: 放射科医师 | C20: FS-9 | D20: 刘建荣 | E20: =_xlfn.XLOOKUP(D20,[1]医师类!$D:$D,[1]医师类!$E:$E) -> 95.5 | F20: =E20*0.6 -> 57.3 | G20: =_xlfn.XLOOKUP(D20,[2]医师类!$D:$D,[2]医师类!$N:$N) -> 74.6 | H20: =G20*0.4 -> 29.84 | I20: =F20+H20 -> 87.14 | J20: 4 | K20: 否
A21: 20 | B21: 耳鼻咽喉科医师 | C21: E-2 | D21: 李芬 | E21: =_xlfn.XLOOKUP(D21,[1]医师类!$D:$D,[1]医师类!$E:$E) -> 86 | F21: =E21*0.6 -> 51.6 | G21: =_xlfn.XLOOKUP(D21,[2]医师类!$D:$D,[2]医师类!$N:$N) -> 89.8 | H21: =G21*0.4 -> 35.92 | I21: =F21+H21 -> 87.52 | J21: 1 | K21: 是
A22: 18 | B22: 耳鼻咽喉科医师 | C22: E-8 | D22: 罗梦 | E22: =_xlfn.XLOOKUP(D22,[1]医师类!$D:$D,[1]医师类!$E:$E) -> 88.5 | F22: =E22*0.6 -> 53.1 | G22: =_xlfn.XLOOKUP(D22,[2]医师类!$D:$D,[2]医师类!$N:$N) -> 80 | H22: =G22*0.4 -> 32 | I22: =F22+H22 -> 85.1 | J22: 2 | K22: 否
A23: 19 | B23: 耳鼻咽喉科医师 | C23: E-4 | D23: 王小林 | E23: =_xlfn.XLOOKUP(D23,[1]医师类!$D:$D,[1]医师类!$E:$E) -> 88 | F23: =E23*0.6 -> 52.8 | G23: =_xlfn.XLOOKUP(D23,[2]医师类!$D:$D,[2]医师类!$N:$N) -> 80.2 | H23: =G23*0.4 -> 32.08 | I23: =F23+H23 -> 84.88 | J23: 3 | K23: 否

Sheet 护理岗位
A1: 成都市新都区第三人民医院2026年 编外人员招聘总成绩及进入体检人员（护理类）
A2: 2026.08.06
A3: 序号 | B3: 招聘岗位 | C3: 考号 | D3: 姓名 | E3: 笔试成绩 | F3: 笔试折合成绩60% | G3: 面试成绩 | H3: 面试折合成绩40% | I3: 折合总成绩 | J3: 本岗位排名 | K3: 是否进入体检 | L3: 备注
A4: 1 | B4: 护理岗位 | C4: H-147 | D4: 彭洪丹 | E4: 76 | F4: =E4*0.6 -> 45.6 | G4: 92.4 | H4: =G4*0.4 -> 36.96 | I4: =F4+H4 -> 82.56 | J4: 1 | K4: 是
A5: 2 | B5: 护理岗位 | C5: H-103 | D5: 杨佳豪 | E5: 74 | F5: =E5*0.6 -> 44.4 | G5: 92.8 | H5: =G5*0.4 -> 37.12 | I5: =F5+H5 -> 81.52 | J5: 2 | K5: 是
A6: 3 | B6: 护理岗位 | C6: H-18 | D6: 李江涛 | E6: 73.5 | F6: =E6*0.6 -> 44.1 | G6: 91.6 | H6: =G6*0.4 -> 36.64 | I6: =F6+H6 -> 80.74 | J6: 3 | K6: 是
A7: 4 | B7: 护理岗位 | C7: H-31 | D7: 冯翊恒 | E7: 72 | F7: =E7*0.6 -> 43.2 | G7: 90.4 | H7: =G7*0.4 -> 36.16 | I7: =F7+H7 -> 79.36 | J7: 4 | K7: 是
A8: 5 | B8: 护理岗位 | C8: H-207 | D8: 殷一丹 | E8: 70 | F8: =E8*0.6 -> 42 | G8: 92.2 | H8: =G8*0.4 -> 36.88 | I8: =F8+H8 -> 78.88 | J8: 5 | K8: 是
A9: 6 | B9: 护理岗位 | C9: H-252 | D9: 张婷婷 | E9: 67.5 | F9: =E9*0.6 -> 40.5 | G9: 93.2 | H9: =G9*0.4 -> 37.28 | I9: =F9+H9 -> 77.78 | J9: 6 | K9: 是
A10: 7 | B10: 护理岗位 | C10: H-20 | D10: 唐雨馨 | E10: 65.5 | F10: =E10*0.6 -> 39.3 | G10: 94 | H10: =G10*0.4 -> 37.6 | I10: =F10+H10 -> 76.9 | J10: 7 | K10: 是
A11: 8 | B11: 护理岗位 | C11: H-171 | D11: 肖宇灏 | E11: 65.5 | F11: =E11*0.6 -> 39.3 | G11: 93.8 | H11: =G11*0.4 -> 37.52 | I11: =F11+H11 -> 76.82 | J11: 8 | K11: 是
A12: 9 | B12: 护理岗位 | C12: H-25 | D12: 陈含芝 | E12: 64.5 | F12: =E12*0.6 -> 38.7 | G12: 89.4 | H12: =G12*0.4 -> 35.76 | I12: =F12+H12 -> 74.46 | J12: 9 | K12: 否
A13: 10 | B13: 护理岗位 | C13: H-107 | D13: 邓星宇 | E13: 69.5 | F13: =E13*0.6 -> 41.7 | G13: 81.2 | H13: =G13*0.4 -> 32.48 | I13: =F13+H13 -> 74.18 | J13: 10 | K13: 否
A14: 11 | B14: 护理岗位 | C14: H-8 | D14: 朱丽娜 | E14: 66 | F14: =E14*0.6 -> 39.6 | G14: 86.4 | H14: =G14*0.4 -> 34.56 | I14: =F14+H14 -> 74.16 | J14: 11 | K14: 否
A15: 12 | B15: 护理岗位 | C15: H-9 | D15: 何静萍 | E15: 66.5 | F15: =E15*0.6 -> 39.9 | G15: 84.6 | H15: =G15*0.4 -> 33.84 | I15: =F15+H15 -> 73.74 | J15: 12 | K15: 否
... A27: 24 | B27: 护理岗位 | C27: H-239 | D27: 李长桃 | E27: 65.5 | F27: =E27*0.6 -> 39.3 | G27: 65.6 | H27: =G27*0.4 -> 26.24 | I27: =F27+H27 -> 65.54 | J27: 24 | K27: 否
A28: 25 | B28: 护理岗位 | C28: H-10 | D28: 刘晓海 | E28: 65 | F28: =E28*0.6 -> 39 | G28: / | H28: / | I28: =F28 -> 39 | J28: 25 | K28: 否 | L28: 面试放弃
